BEGIN:VCALENDAR
VERSION:2.0
PRODID:-//ZiriuZ - ECPv6.15.20//NONSGML v1.0//EN
CALSCALE:GREGORIAN
METHOD:PUBLISH
X-WR-CALNAME:ZiriuZ
X-ORIGINAL-URL:https://ziriuz.rocks
X-WR-CALDESC:Veranstaltungen für ZiriuZ
REFRESH-INTERVAL;VALUE=DURATION:PT1H
X-Robots-Tag:noindex
X-PUBLISHED-TTL:PT1H
BEGIN:VTIMEZONE
TZID:Europe/Berlin
BEGIN:DAYLIGHT
TZOFFSETFROM:+0100
TZOFFSETTO:+0200
TZNAME:CEST
DTSTART:20200329T010000
END:DAYLIGHT
BEGIN:STANDARD
TZOFFSETFROM:+0200
TZOFFSETTO:+0100
TZNAME:CET
DTSTART:20201025T010000
END:STANDARD
BEGIN:DAYLIGHT
TZOFFSETFROM:+0100
TZOFFSETTO:+0200
TZNAME:CEST
DTSTART:20210328T010000
END:DAYLIGHT
BEGIN:STANDARD
TZOFFSETFROM:+0200
TZOFFSETTO:+0100
TZNAME:CET
DTSTART:20211031T010000
END:STANDARD
BEGIN:DAYLIGHT
TZOFFSETFROM:+0100
TZOFFSETTO:+0200
TZNAME:CEST
DTSTART:20220327T010000
END:DAYLIGHT
BEGIN:STANDARD
TZOFFSETFROM:+0200
TZOFFSETTO:+0100
TZNAME:CET
DTSTART:20221030T010000
END:STANDARD
BEGIN:DAYLIGHT
TZOFFSETFROM:+0100
TZOFFSETTO:+0200
TZNAME:CEST
DTSTART:20230326T010000
END:DAYLIGHT
BEGIN:STANDARD
TZOFFSETFROM:+0200
TZOFFSETTO:+0100
TZNAME:CET
DTSTART:20231029T010000
END:STANDARD
BEGIN:DAYLIGHT
TZOFFSETFROM:+0100
TZOFFSETTO:+0200
TZNAME:CEST
DTSTART:20240331T010000
END:DAYLIGHT
BEGIN:STANDARD
TZOFFSETFROM:+0200
TZOFFSETTO:+0100
TZNAME:CET
DTSTART:20241027T010000
END:STANDARD
BEGIN:DAYLIGHT
TZOFFSETFROM:+0100
TZOFFSETTO:+0200
TZNAME:CEST
DTSTART:20250330T010000
END:DAYLIGHT
BEGIN:STANDARD
TZOFFSETFROM:+0200
TZOFFSETTO:+0100
TZNAME:CET
DTSTART:20251026T010000
END:STANDARD
BEGIN:DAYLIGHT
TZOFFSETFROM:+0100
TZOFFSETTO:+0200
TZNAME:CEST
DTSTART:20260329T010000
END:DAYLIGHT
BEGIN:STANDARD
TZOFFSETFROM:+0200
TZOFFSETTO:+0100
TZNAME:CET
DTSTART:20261025T010000
END:STANDARD
BEGIN:DAYLIGHT
TZOFFSETFROM:+0100
TZOFFSETTO:+0200
TZNAME:CEST
DTSTART:20270328T010000
END:DAYLIGHT
BEGIN:STANDARD
TZOFFSETFROM:+0200
TZOFFSETTO:+0100
TZNAME:CET
DTSTART:20271031T010000
END:STANDARD
END:VTIMEZONE
BEGIN:VEVENT
DTSTART;TZID=Europe/Berlin:20260321T183000
DTEND;TZID=Europe/Berlin:20260321T223000
DTSTAMP:20260421T144912
CREATED:20250418T131805Z
LAST-MODIFIED:20260317T053734Z
UID:1486-1774117800-1774132200@ziriuz.rocks
SUMMARY:KneipenFetzt! Forchheim 2026
DESCRIPTION:
URL:https://ziriuz.rocks/veranstaltung/kneipenfetzt-forchheim/
CATEGORIES:Konzerte
END:VEVENT
BEGIN:VEVENT
DTSTART;TZID=Europe/Berlin:20260123T200000
DTEND;TZID=Europe/Berlin:20260123T233000
DTSTAMP:20260421T144912
CREATED:20250418T134552Z
LAST-MODIFIED:20251204T181559Z
UID:1489-1769198400-1769211000@ziriuz.rocks
SUMMARY:ZiriuZ … live in der Ranch (Schützenhaus Neunhof)
DESCRIPTION:
URL:https://ziriuz.rocks/veranstaltung/ziriuz-live-in-der-ranch-schuetzenhaus-neunhof/
LOCATION:Schützenhaus Edelweiss e.V.\, Kreuzäckerstraße 100\, Nürnberg\, Bayern\, 90427\, Germany
CATEGORIES:Konzerte
ATTACH;FMTTYPE=image/jpeg:https://ziriuz.rocks/wp-content/uploads/2025/04/ZiriuZ.live_Schuetzenhaus_Neunhof_Jan_26.jpg
END:VEVENT
BEGIN:VEVENT
DTSTART;TZID=Europe/Berlin:20251115T194500
DTEND;TZID=Europe/Berlin:20251115T230000
DTSTAMP:20260421T144912
CREATED:20250927T121122Z
LAST-MODIFIED:20251112T045641Z
UID:1546-1763235900-1763247600@ziriuz.rocks
SUMMARY:Ziriuz... Live! im Dartmoor Inn
DESCRIPTION:Rockt mit uns die In-Kneipe für Rockmusik in Erlangen\, dem Dartmoor In. Wir freuen uns gemeinsam mit unserem Gastgeber Olaf auf Euch!
URL:https://ziriuz.rocks/veranstaltung/ziriuz-live-im-dartmmor-inn-2024-2-2/
LOCATION:Dartmoor Inn – Erlangen\, Friedrichstraße 37\, Erlangen\, Bayern\, 91054\, Deutschland
CATEGORIES:Konzerte
ATTACH;FMTTYPE=image/jpeg:https://ziriuz.rocks/wp-content/uploads/2024/06/DSC08376-scaled.jpg
END:VEVENT
BEGIN:VEVENT
DTSTART;TZID=Europe/Berlin:20251005T110000
DTEND;TZID=Europe/Berlin:20251005T133000
DTSTAMP:20260421T144912
CREATED:20250718T070628Z
LAST-MODIFIED:20251003T143741Z
UID:1541-1759662000-1759671000@ziriuz.rocks
SUMMARY:ZiriuZ live … RideOn @ Zollhaus Biergarten Nürnberg
DESCRIPTION:  \n__PRESENT
URL:https://ziriuz.rocks/veranstaltung/ziriuz-live-rideon-nuernberg-2/
LOCATION:Zollhaus Biergarten Nürnberg\, Am Zollhaus 150\, Nürnberg\, Bayern\, 90471\, Deutschland
CATEGORIES:Konzerte
ORGANIZER;CN="RideOn":MAILTO:th.utz@web.de
END:VEVENT
BEGIN:VEVENT
DTSTART;TZID=Europe/Berlin:20250713T110000
DTEND;TZID=Europe/Berlin:20250713T133000
DTSTAMP:20260421T144912
CREATED:20250618T090011Z
LAST-MODIFIED:20250618T090233Z
UID:1507-1752404400-1752413400@ziriuz.rocks
SUMMARY:ZiriuZ live … RideOn @ Zollhaus Biergarten Nürnberg
DESCRIPTION:
URL:https://ziriuz.rocks/veranstaltung/ziriuz-live-rideon-nuernberg/
LOCATION:Zollhaus Biergarten Nürnberg\, Am Zollhaus 150\, Nürnberg\, Bayern\, 90471\, Deutschland
CATEGORIES:Konzerte
ORGANIZER;CN="RideOn":MAILTO:th.utz@web.de
END:VEVENT
BEGIN:VEVENT
DTSTART;TZID=Europe/Berlin:20250620T180000
DTEND;TZID=Europe/Berlin:20250620T223000
DTSTAMP:20260421T144912
CREATED:20250427T114619Z
LAST-MODIFIED:20250718T071104Z
UID:1500-1750442400-1750458600@ziriuz.rocks
SUMMARY:ZiriuZ … live @ Thalermühle / Erlangen 2025
DESCRIPTION:
URL:https://ziriuz.rocks/veranstaltung/ziriuz-live-thalermuehle-erlangen/
LOCATION:Thalermühle Erlangen\, Thalermühle 1\, Erlangen\, 91054\, Germany
CATEGORIES:Konzerte
ORGANIZER;CN="Brauerei Weller":MAILTO:info@brauerei-weller.de
END:VEVENT
BEGIN:VEVENT
DTSTART;TZID=Europe/Berlin:20250412T203000
DTEND;TZID=Europe/Berlin:20250412T203000
DTSTAMP:20260421T144912
CREATED:20250127T103015Z
LAST-MODIFIED:20250718T071119Z
UID:1437-1744489800-1744489800@ziriuz.rocks
SUMMARY:ZiriuZ ... Live im Bistro Triangel!
DESCRIPTION:
URL:https://ziriuz.rocks/veranstaltung/ziriuz-live-in-der-triangel-2/
LOCATION:Bistro Triangel
CATEGORIES:Konzerte
ATTACH;FMTTYPE=image/png:https://ziriuz.rocks/wp-content/uploads/2025/01/Social-Media-1920x1080-1.png
END:VEVENT
BEGIN:VEVENT
DTSTART;TZID=Europe/Berlin:20250315T200000
DTEND;TZID=Europe/Berlin:20250315T235900
DTSTAMP:20260421T144912
CREATED:20241121T130423Z
LAST-MODIFIED:20250718T071128Z
UID:1427-1742068800-1742083140@ziriuz.rocks
SUMMARY:ZiriuZ ... Live in der Triangel!
DESCRIPTION:
URL:https://ziriuz.rocks/veranstaltung/ziriuz-live-in-der-triangel/
LOCATION:Bistro Triangel
CATEGORIES:Konzerte
ATTACH;FMTTYPE=image/png:https://ziriuz.rocks/wp-content/uploads/2024/11/2025-03-15-Plakat-70x50cm-verschoben-Seite001.png
END:VEVENT
BEGIN:VEVENT
DTSTART;TZID=Europe/Berlin:20241004T194500
DTEND;TZID=Europe/Berlin:20241004T230000
DTSTAMP:20260421T144913
CREATED:20240629T130001Z
LAST-MODIFIED:20250718T071134Z
UID:771-1728071100-1728082800@ziriuz.rocks
SUMMARY:Ziriuz... Live! in der Pegnitzschmiede
DESCRIPTION:Wir spielen in der Pegnitzschmiede bei Baudi!
URL:https://ziriuz.rocks/veranstaltung/ziriuz-live-in-der-pegnitzschmiede/
LOCATION:Pegnitzschmiede – Marcus Baudenbacher\, Silberstraße 9\, Nürnberg\, 90427\, Deutschland
CATEGORIES:Konzerte
ATTACH;FMTTYPE=image/jpeg:https://ziriuz.rocks/wp-content/uploads/2024/06/DSC08376-scaled.jpg
END:VEVENT
BEGIN:VEVENT
DTSTART;TZID=Europe/Berlin:20240727T194500
DTEND;TZID=Europe/Berlin:20240727T230000
DTSTAMP:20260421T144913
CREATED:20210924T170008Z
LAST-MODIFIED:20240707T133602Z
UID:1169-1722109500-1722121200@ziriuz.rocks
SUMMARY:Ziriuz... Live! im Dartmoor Inn
DESCRIPTION:ZiriuZ spielt für einen runden Geburtstag – das ehrt uns sehr. Vielen Dank für das Engagement\, lieber Christian!
URL:https://ziriuz.rocks/veranstaltung/ziriuz-live-im-dartmmor-inn-2024-2/
LOCATION:Dartmoor Inn – Erlangen\, Friedrichstraße 37\, Erlangen\, Bayern\, 91054\, Deutschland
CATEGORIES:Konzerte
ATTACH;FMTTYPE=image/jpeg:https://ziriuz.rocks/wp-content/uploads/2024/06/DSC08376-scaled.jpg
END:VEVENT
BEGIN:VEVENT
DTSTART;TZID=Europe/Berlin:20240323T193000
DTEND;TZID=Europe/Berlin:20240323T230000
DTSTAMP:20260421T144913
CREATED:20240323T183059Z
LAST-MODIFIED:20240616T144433Z
UID:677-1711222200-1711234800@ziriuz.rocks
SUMMARY:Ziriuz... Live! im Dartmoor Inn
DESCRIPTION:Wir spielen im Dartmoor Inn bei Olaf Nies\, der Rockkneipe in Erlangen schlechthin!
URL:https://ziriuz.rocks/veranstaltung/ziriuz-live-im-dartmoor-inn/
LOCATION:Dartmoor Inn – Erlangen\, Friedrichstraße 37\, Erlangen\, Bayern\, 91054\, Deutschland
CATEGORIES:Konzerte
ATTACH;FMTTYPE=image/png:https://ziriuz.rocks/wp-content/uploads/2024/03/2024-03-07-Plakat-fuer-Web.png
END:VEVENT
BEGIN:VEVENT
DTSTART;TZID=Europe/Berlin:20230702T120000
DTEND;TZID=Europe/Berlin:20230702T140000
DTSTAMP:20260421T144913
CREATED:20240616T122308Z
LAST-MODIFIED:20240616T144424Z
UID:1130-1688299200-1688306400@ziriuz.rocks
SUMMARY:Erlangen - Zollhausfest 2023
DESCRIPTION:Wir sind live zu sehen – endlich wieder!!\nRockt mit uns zum Frühschoppen beim Erlanger Zollhausfest am\n\n\n\n\n\n➡️ Sonntag\, 02.07.2023\, ab 12:00 Uhr ⬅️
URL:https://ziriuz.rocks/veranstaltung/erlangen-zollhausfest-2023/
END:VEVENT
BEGIN:VEVENT
DTSTART;TZID=Europe/Berlin:20210923T190000
DTEND;TZID=Europe/Berlin:20210923T223000
DTSTAMP:20260421T144913
CREATED:20240610T120321Z
LAST-MODIFIED:20240616T175624Z
UID:20-1632423600-1632436200@ziriuz.rocks
SUMMARY:RockSteady in Action
DESCRIPTION:RockSteady bereitet sich auf den ersten Auftritt nach den Einschränkungen vor.
URL:https://ziriuz.rocks/veranstaltung/rocksteady-in-action/
LOCATION:Kolpingsaal Forchheim\, Kolpingplatz 1\, Forchheim\, 91301\, Deutschland
ORGANIZER;CN="ZiriuZ":MAILTO:mgmt@ziriuz.rocks
END:VEVENT
END:VCALENDAR