BEGIN:VCALENDAR
VERSION:2.0
PRODID:-//ZiriuZ - ECPv6.15.20//NONSGML v1.0//EN
CALSCALE:GREGORIAN
METHOD:PUBLISH
X-WR-CALNAME:ZiriuZ
X-ORIGINAL-URL:https://ziriuz.rocks
X-WR-CALDESC:Veranstaltungen für ZiriuZ
REFRESH-INTERVAL;VALUE=DURATION:PT1H
X-Robots-Tag:noindex
X-PUBLISHED-TTL:PT1H
BEGIN:VTIMEZONE
TZID:Europe/Berlin
BEGIN:DAYLIGHT
TZOFFSETFROM:+0100
TZOFFSETTO:+0200
TZNAME:CEST
DTSTART:20250330T010000
END:DAYLIGHT
BEGIN:STANDARD
TZOFFSETFROM:+0200
TZOFFSETTO:+0100
TZNAME:CET
DTSTART:20251026T010000
END:STANDARD
BEGIN:DAYLIGHT
TZOFFSETFROM:+0100
TZOFFSETTO:+0200
TZNAME:CEST
DTSTART:20260329T010000
END:DAYLIGHT
BEGIN:STANDARD
TZOFFSETFROM:+0200
TZOFFSETTO:+0100
TZNAME:CET
DTSTART:20261025T010000
END:STANDARD
BEGIN:DAYLIGHT
TZOFFSETFROM:+0100
TZOFFSETTO:+0200
TZNAME:CEST
DTSTART:20270328T010000
END:DAYLIGHT
BEGIN:STANDARD
TZOFFSETFROM:+0200
TZOFFSETTO:+0100
TZNAME:CET
DTSTART:20271031T010000
END:STANDARD
END:VTIMEZONE
BEGIN:VEVENT
DTSTART;VALUE=DATE:20260627
DTEND;VALUE=DATE:20260629
DTSTAMP:20260421T174825
CREATED:20250718T070806Z
LAST-MODIFIED:20250927T212355Z
UID:1543-1782532800-1782619199@ziriuz.rocks
SUMMARY:ZiriuZ live ... Geschlossene Gesellschaft
DESCRIPTION:
URL:https://ziriuz.rocks/veranstaltung/ziriuz-live-geschlossene-gesellschaft/
LOCATION:Junges Theater Forchheim e.V.\, Kasernstr. 9\, Forchheim\, Bayern\, 91301\, Germany
END:VEVENT
END:VCALENDAR